BEGIN:VCALENDAR
VERSION:2.0
PRODID:-//The Preserve Sporting Club &amp; Resort - ECPv6.15.20//NONSGML v1.0//EN
CALSCALE:GREGORIAN
METHOD:PUBLISH
X-WR-CALNAME:The Preserve Sporting Club &amp; Resort
X-ORIGINAL-URL:https://preserveaspot.com
X-WR-CALDESC:Events for The Preserve Sporting Club &amp; Resort
REFRESH-INTERVAL;VALUE=DURATION:PT1H
X-Robots-Tag:noindex
X-PUBLISHED-TTL:PT1H
BEGIN:VTIMEZONE
TZID:America/New_York
BEGIN:DAYLIGHT
TZOFFSETFROM:-0500
TZOFFSETTO:-0400
TZNAME:EDT
DTSTART:20220313T070000
END:DAYLIGHT
BEGIN:STANDARD
TZOFFSETFROM:-0400
TZOFFSETTO:-0500
TZNAME:EST
DTSTART:20221106T060000
END:STANDARD
BEGIN:DAYLIGHT
TZOFFSETFROM:-0500
TZOFFSETTO:-0400
TZNAME:EDT
DTSTART:20230312T070000
END:DAYLIGHT
BEGIN:STANDARD
TZOFFSETFROM:-0400
TZOFFSETTO:-0500
TZNAME:EST
DTSTART:20231105T060000
END:STANDARD
BEGIN:DAYLIGHT
TZOFFSETFROM:-0500
TZOFFSETTO:-0400
TZNAME:EDT
DTSTART:20240310T070000
END:DAYLIGHT
BEGIN:STANDARD
TZOFFSETFROM:-0400
TZOFFSETTO:-0500
TZNAME:EST
DTSTART:20241103T060000
END:STANDARD
END:VTIMEZONE
BEGIN:VEVENT
DTSTART;TZID=America/New_York:20231014T090000
DTEND;TZID=America/New_York:20231014T190000
DTSTAMP:20260423T160612
CREATED:20230323T215637Z
LAST-MODIFIED:20230323T232426Z
UID:10000785-1697274000-1697310000@preserveaspot.com
SUMMARY:Adam Vinatieri's Clays 4 Charity
DESCRIPTION:Looking for a fun way to support a good cause? Look no further than Adam Vinatieri’s Second Annual Clays 4 Charity Shoot\, proudly hosted by​ The Preserve Sporting Club. This event promises to be the greatest day in sporting clays\, where amateurs\, celebrities\, and pros alike can come and enjoy a day of fun in the name of charity. Hosted by none other than 4-time Super Bowl Champion Adam Vinatieri! With world-class facilities and breathtaking scenery\, The Preserve is sure to provide an enjoyable experience for all. \nSporting clays is a great activity for people of all skill levels\, and at The Preserve\, you’ll be surrounded by beautiful natural scenery while you compete. Golf\, fly fishing\, ATV/UTV riding\, and more will also be available for your enjoyment. Plus\, this event is all for charity\, so you can feel good knowing that your participation will help others in need. So whether you’re a seasoned pro or a complete novice\, come out and enjoy a day of fun at The Preserve Sporting Club and don’t miss your chance to hang out with one of the greatest of all time in NFL history.
URL:https://preserveaspot.com/event/adam-vinatieris-clays-4-charity/
LOCATION:The Preserve Sporting Club & Residences\, 1 Preserve Boulevard\, Richmond\, RI\, 02898\, United States
CATEGORIES:Featured Events
ATTACH;FMTTYPE=image/webp:https://preserveaspot.com/wp-content/uploads/2023/03/clays4charity.webp
ORGANIZER;CN="Caroline Mihailides":MAILTO:caroline@thepreserveri.com
GEO:41.5030354;-71.687542
X-APPLE-STRUCTURED-LOCATION;VALUE=URI;X-ADDRESS=The Preserve Sporting Club & Residences 1 Preserve Boulevard Richmond RI 02898 United States;X-APPLE-RADIUS=500;X-TITLE=1 Preserve Boulevard:geo:-71.687542,41.5030354
END:VEVENT
BEGIN:VEVENT
DTSTART;TZID=America/New_York:20230708T090000
DTEND;TZID=America/New_York:20230708T170000
DTSTAMP:20260423T160612
CREATED:20230327T181756Z
LAST-MODIFIED:20230629T155829Z
UID:10000786-1688806800-1688835600@preserveaspot.com
SUMMARY:Blaser Day
DESCRIPTION:Mark your calendars for Blaser Day\, July 8\, 2023 and get ready for a day of fun\, excitement and exclusive experiences at the Sporting Shoppe! \nThis special event includes a private shopping experience presented by the Blaser Team\, along with custom gun fits by Blaser Certified Gunsmiths\, clays shooting tips by Blaser Sponsored Shooters\, afternoon simulated driven clays experience\, minor wood adjustments available on-site\, a 10% discount on any in-stock firearm for all attendees\, and delicious meals by Chef David Burke\, including breakfast\, lunch\, and a world-class dinner. Overnight accommodations\, room blocks\, and additional activities are also available. Don’t miss out on this incredible opportunity to immerse yourself in the best of the sporting life\, learn from the experts\, and make unforgettable memories at the Preserve Sporting Club. \nThe Preserve Sporting Club & Residences is a premier sporting club that offers world-class hunting and shooting facilities\, luxurious accommodations\, fine dining\, and a wide range of recreational activities. Situated on over 3\,500 acres of picturesque countryside\, the club features numerous amenities\, including a hunting lodge\, multiple sporting clays courses\, over 10 fishing ponds\, and more. The Preserve is dedicated to providing its members and guests with an unparalleled experience of the great outdoors and the sporting life\, all within a comfortable and welcoming atmosphere. \n\n  \nFriday\, July 7th\n5PM – 7PM\nNight Before Private Shopping Experience with Team Blaser in The Preserve’s luxurious Fine Gun Room. Invite and Blaser Day attendees only. Delicious\, passed apps and exclusive firearm pricing for attendees.\n*Overnight accommodations are available for any attendees looking to extend their stay experience. \nSaturday\, July 8th\nBlaser Day – Main Event Schedule\n8AM – 9AM\nEnjoy a hearty breakfast at The Preserve’s Main Lodge. \n9:30AM – 12PM\nExperience a Blaser Gun Demo with professional shooter\, Bill McGuire on The Preserve Warming Hut Training Deck. \n12PM – 1PM\nFuel up with a light lunch served at The Warming Hut before heading out for even more shooting fun to be had. \n1:30PM – 3PM\nPut your skills to the test on the Simulated Driven Course with a round of sporting clays and some friendly competition. \n3:30PM – 5:30PM\nHead over to The Preserve’s Corporate Clays Course for a 75-clay round with Blaser Team Staff Members for various targets set to showcase the very best of Blaser’s craftsmanship. \n7PM\nEnd the day with good company and great food\, as you and Team Blaser sit down to savor Chef David Burke’s Double Barrel Steak in our private dining room. \nDon’t miss this one-of-a-kind experience to indulge in the finest game dishes\, pick out the perfect gun\, and learn from the best in the industry. This event is perfect for hunters and gun enthusiasts alike.
URL:https://preserveaspot.com/event/blaser-day/
LOCATION:The Preserve Sporting Club & Residences\, 1 Preserve Boulevard\, Richmond\, RI\, 02898\, United States
CATEGORIES:Featured Events
ATTACH;FMTTYPE=image/webp:https://preserveaspot.com/wp-content/uploads/2023/03/blaser-spot.webp
ORGANIZER;CN="Caroline Mihailides":MAILTO:caroline@thepreserveri.com
GEO:41.5030354;-71.687542
X-APPLE-STRUCTURED-LOCATION;VALUE=URI;X-ADDRESS=The Preserve Sporting Club & Residences 1 Preserve Boulevard Richmond RI 02898 United States;X-APPLE-RADIUS=500;X-TITLE=1 Preserve Boulevard:geo:-71.687542,41.5030354
END:VEVENT
BEGIN:VEVENT
DTSTART;TZID=America/New_York:20230603T080000
DTEND;TZID=America/New_York:20230603T200000
DTSTAMP:20260423T160612
CREATED:20230511T215709Z
LAST-MODIFIED:20240730T202032Z
UID:10000813-1685779200-1685822400@preserveaspot.com
SUMMARY:1st Annual Preserve Open
DESCRIPTION:Thank you for your interest in the Caroline Mihailides at The Preserve Sporting Club. While the event you’re inquiring about has come to an end\, we invite you to explore our upcoming events listed below. Join us for future adventures and experiences as part of our Driven Hunt series. \n    \n        Other dates for the 2026\n        \n	\n		\n\n			\n			\n\n			\n			\n				\n											\n\n	\n	\n		\n			Apr		\n		\n			23		\n	\n\n\n	\n		\n			\n\n				\n					\n		\n		5:00 pm - 6:00 pm	\n	\n\n	\n		\n\n	\n	\n	\n\n	\n\n\n					\n	\n		Preserve Hike	\n\n				\n\n				\n			\n		\n	\n\n\n											\n\n	\n	\n		\n			Apr		\n		\n			23		\n	\n\n\n	\n		\n			\n\n				\n					\n		\n		5:00 pm - 6:30 pm	\n	\n\n	\n		\n\n	\n	\n	\n\n	\n\n\n					\n	\n		The Hilltop Spa Beauty & Bentley Experience	\n\n				\n\n				\n			\n		\n	\n\n\n											\n\n	\n	\n		\n			Apr		\n		\n			23		\n	\n\n\n	\n		\n			\n\n				\n					\n		\n		5:30 pm - 9:00 pm	\n	\n\n	\n		\n\n	\n	\n	\n\n	\n\n\n					\n	\n		Pasta & Vino Thursdays	\n\n				\n\n				\n			\n		\n	\n\n\n											\n\n	\n	\n		\n			Apr		\n		\n			24		\n	\n\n\n	\n		\n			\n\n				\n					\n		\n		11:00 am - 12:00 pm	\n	\n\n	\n		\n\n	\n	\n	\n\n	\n\n\n					\n	\n		Equestrian Center Tour	\n\n				\n\n				\n			\n		\n	\n\n\n											\n\n	\n	\n		\n			Apr		\n		\n			25		\n	\n\n\n	\n		\n			\n\n				\n					\n		\n		11:00 am - 12:00 pm	\n	\n\n	\n		\n\n	\n	\n	\n\n	\n\n\n					\n	\n		Equestrian Center Tour	\n\n				\n\n				\n			\n		\n	\n\n\n									\n\n				\n	\n		View Calendar	\n\n\n					\n	\n\n\n    \n    \nJoin us for the 1st Annual Preserve Open\, a thrilling NSCA registered sporting clays competition where you can test your skills and have a blast! With 200 clay targets divided into two flights\, presented on the Preserve’s World Class Sporting Clays Course that boasts awe-inspiring natural beauty. Plus\, you will be treated to an amazing breakfast buffet during registration\, and a delicious lunch provided by Double Barrel Steak by David Burke for the first flight. \nAfter the second flight and the competition comes to a close\, rejuvenate and bond over an unrivaled dinner experience at Double Barrel Steak curated by David Burke. Don’t miss out on this breathtaking experience! Sign-up now to secure your place at the 1st Annual Preserve Open. \nThe Preserve Open. 200 clay targets\, 2 flights\, and lunch provided by Double Barrel Steak by David Burke. \nItinerary \n8AM – 9AM\, Warmup (Registration required.) \n8AM – 9:15AM\, Registration and Breakfast Buffet available. \n9:30AM – 12:30PM\, 1st Flight Takeoff. 100 targets. \n12:30PM – 1:30PM\, Lunch provided for 1st Flight. \n2PM – 5PM\, 2nd Flight Landing. 100 targets. \n5:30PM – 8PM\, Dinner Reservations available at Double Barrel Steak by David Burke.
URL:https://preserveaspot.com/event/1st-annual-preserve-open/
LOCATION:The Preserve Sporting Club & Residences\, 1 Preserve Boulevard\, Richmond\, RI\, 02898\, United States
CATEGORIES:Featured Events
ATTACH;FMTTYPE=image/webp:https://preserveaspot.com/wp-content/uploads/2023/05/preserve-open.webp
ORGANIZER;CN="Caroline Mihailides":MAILTO:caroline@thepreserveri.com
GEO:41.5030354;-71.687542
X-APPLE-STRUCTURED-LOCATION;VALUE=URI;X-ADDRESS=The Preserve Sporting Club & Residences 1 Preserve Boulevard Richmond RI 02898 United States;X-APPLE-RADIUS=500;X-TITLE=1 Preserve Boulevard:geo:-71.687542,41.5030354
END:VEVENT
BEGIN:VEVENT
DTSTART;TZID=America/New_York:20230506T090000
DTEND;TZID=America/New_York:20230506T163000
DTSTAMP:20260423T160612
CREATED:20230328T163024Z
LAST-MODIFIED:20230503T165440Z
UID:10000787-1683363600-1683390600@preserveaspot.com
SUMMARY:Women's Shotgun Demo Day
DESCRIPTION:Caesar Guerini and Syren Demo Day at The Preserve \nCome try out the LATEST GUNS with the CG & Syren Team! Calling all Lady Shooters! Come test out the latest and greatest Caesar Guerini and Syren shotguns at The Preserve’s World-Class Warming Hut. Over 120 target presentations will allow you to meet with factory reps\, get pointers from level 2 sporting clays instructors\, and try out different models of Syren and Caesar Guerini shotguns. The Sporting Shoppe boasts more than 40 units in stock\, applying discounts on models for event attendees \nMorning Sessions Available – Including Light Refreshments 9AM – 12:30PM. \nThe Afternoon Session is SOLD OUT from 1PM – 4:30PM. \n$129.99 per person includes up to 100 demo clays\, complimentary shells and passed light fare and house cocktails after you shoot.
URL:https://preserveaspot.com/event/womens-shotgun-demo-day/
LOCATION:The Preserve Sporting Club & Residences\, 1 Preserve Boulevard\, Richmond\, RI\, 02898\, United States
CATEGORIES:Featured Events
ATTACH;FMTTYPE=image/webp:https://preserveaspot.com/wp-content/uploads/2023/03/womens-demo-day.webp
ORGANIZER;CN="Caroline Mihailides":MAILTO:caroline@thepreserveri.com
GEO:41.5030354;-71.687542
X-APPLE-STRUCTURED-LOCATION;VALUE=URI;X-ADDRESS=The Preserve Sporting Club & Residences 1 Preserve Boulevard Richmond RI 02898 United States;X-APPLE-RADIUS=500;X-TITLE=1 Preserve Boulevard:geo:-71.687542,41.5030354
END:VEVENT
END:VCALENDAR