BEGIN:VCALENDAR
VERSION:2.0
PRODID:-//The Preserve Sporting Club &amp; Resort - ECPv6.15.20//NONSGML v1.0//EN
CALSCALE:GREGORIAN
METHOD:PUBLISH
X-ORIGINAL-URL:https://preserveaspot.com
X-WR-CALDESC:Events for The Preserve Sporting Club &amp; Resort
REFRESH-INTERVAL;VALUE=DURATION:PT1H
X-Robots-Tag:noindex
X-PUBLISHED-TTL:PT1H
BEGIN:VTIMEZONE
TZID:America/New_York
BEGIN:DAYLIGHT
TZOFFSETFROM:-0500
TZOFFSETTO:-0400
TZNAME:EDT
DTSTART:20230312T070000
END:DAYLIGHT
BEGIN:STANDARD
TZOFFSETFROM:-0400
TZOFFSETTO:-0500
TZNAME:EST
DTSTART:20231105T060000
END:STANDARD
BEGIN:DAYLIGHT
TZOFFSETFROM:-0500
TZOFFSETTO:-0400
TZNAME:EDT
DTSTART:20240310T070000
END:DAYLIGHT
BEGIN:STANDARD
TZOFFSETFROM:-0400
TZOFFSETTO:-0500
TZNAME:EST
DTSTART:20241103T060000
END:STANDARD
BEGIN:DAYLIGHT
TZOFFSETFROM:-0500
TZOFFSETTO:-0400
TZNAME:EDT
DTSTART:20250309T070000
END:DAYLIGHT
BEGIN:STANDARD
TZOFFSETFROM:-0400
TZOFFSETTO:-0500
TZNAME:EST
DTSTART:20251102T060000
END:STANDARD
END:VTIMEZONE
BEGIN:VEVENT
DTSTART;TZID=America/New_York:20240307T170000
DTEND;TZID=America/New_York:20240307T200000
DTSTAMP:20260421T185147
CREATED:20231204T181212Z
LAST-MODIFIED:20241017T154853Z
UID:10001197-1709830800-1709841600@preserveaspot.com
SUMMARY:Double Barrel & Bentley Dinner Experience
DESCRIPTION:Indulge in the epitome of luxury with our exclusive ‘Double Barrel & Bentley’ date night experience at The Preserve Resort & Spa. From your doorstep to the dining room\, we’ll curate a magical evening celebrating fine dining and sophistication. \nAn experience perfect for engagements\, celebrations\, surprises and more; you can relax and unwind as The Preserve Resort & Spa picks you up in one of our exclusive Bentleys and transports you to the renowned Double Barrel Steak for a curated dinner experience. After dinner and dessert\, we’ll complete the evening as we drop you off safely at home. \nMenu Includes: \n\nAmuse Bouche and Pre Dinner-Cocktail\nClothesline Bacon for Two\nSalad\nTomahawk Steak for Two\nTrio of Sides\nCake Pop Tree\nBottle of Wine\, valued at $100\n\nFine Print: \nExperience available on Thursday evenings with pick up times of 5:00p.m. or 6:30p.m. Pick up location must be within 25 miles of the Preserve Resort & Spa. \nPrice:\n$695 (Party of 2)  Price Includes Up to 2 People\n$1\,389 (Party of 4) Price Includes Up to 4 People
URL:https://preserveaspot.com/event/double-barrel-bentley-dinner-experience/2024-03-07/
LOCATION:Double Barrel Steak\, 1 Preserve Boulevard\, Richmond\, RI\, 02898\, United States
CATEGORIES:Double Barrel Steak
ATTACH;FMTTYPE=image/webp:https://preserveaspot.com/wp-content/uploads/2023/12/Double-Barrel-Bentley-Dinner-Experience.webp
ORGANIZER;CN="Guest Relations":MAILTO:grm@thepreserveri.com
GEO:41.5017742;-71.6828161
X-APPLE-STRUCTURED-LOCATION;VALUE=URI;X-ADDRESS=Double Barrel Steak 1 Preserve Boulevard Richmond RI 02898 United States;X-APPLE-RADIUS=500;X-TITLE=1 Preserve Boulevard:geo:-71.6828161,41.5017742
END:VEVENT
BEGIN:VEVENT
DTSTART;TZID=America/New_York:20240314T170000
DTEND;TZID=America/New_York:20240314T200000
DTSTAMP:20260421T185147
CREATED:20231204T181212Z
LAST-MODIFIED:20241017T154853Z
UID:10001199-1710435600-1710446400@preserveaspot.com
SUMMARY:Double Barrel & Bentley Dinner Experience
DESCRIPTION:Indulge in the epitome of luxury with our exclusive ‘Double Barrel & Bentley’ date night experience at The Preserve Resort & Spa. From your doorstep to the dining room\, we’ll curate a magical evening celebrating fine dining and sophistication. \nAn experience perfect for engagements\, celebrations\, surprises and more; you can relax and unwind as The Preserve Resort & Spa picks you up in one of our exclusive Bentleys and transports you to the renowned Double Barrel Steak for a curated dinner experience. After dinner and dessert\, we’ll complete the evening as we drop you off safely at home. \nMenu Includes: \n\nAmuse Bouche and Pre Dinner-Cocktail\nClothesline Bacon for Two\nSalad\nTomahawk Steak for Two\nTrio of Sides\nCake Pop Tree\nBottle of Wine\, valued at $100\n\nFine Print: \nExperience available on Thursday evenings with pick up times of 5:00p.m. or 6:30p.m. Pick up location must be within 25 miles of the Preserve Resort & Spa. \nPrice:\n$695 (Party of 2)  Price Includes Up to 2 People\n$1\,389 (Party of 4) Price Includes Up to 4 People
URL:https://preserveaspot.com/event/double-barrel-bentley-dinner-experience/2024-03-14/
LOCATION:Double Barrel Steak\, 1 Preserve Boulevard\, Richmond\, RI\, 02898\, United States
CATEGORIES:Double Barrel Steak
ATTACH;FMTTYPE=image/webp:https://preserveaspot.com/wp-content/uploads/2023/12/Double-Barrel-Bentley-Dinner-Experience.webp
ORGANIZER;CN="Guest Relations":MAILTO:grm@thepreserveri.com
GEO:41.5017742;-71.6828161
X-APPLE-STRUCTURED-LOCATION;VALUE=URI;X-ADDRESS=Double Barrel Steak 1 Preserve Boulevard Richmond RI 02898 United States;X-APPLE-RADIUS=500;X-TITLE=1 Preserve Boulevard:geo:-71.6828161,41.5017742
END:VEVENT
BEGIN:VEVENT
DTSTART;TZID=America/New_York:20240317T080000
DTEND;TZID=America/New_York:20240317T210000
DTSTAMP:20260421T185147
CREATED:20240222T160304Z
LAST-MODIFIED:20240313T212749Z
UID:10001633-1710662400-1710709200@preserveaspot.com
SUMMARY:St. Patrick’s Day at Double Barrel Steak
DESCRIPTION:A Celebrate the spirit of St. Patrick’s Day with Double Barrel Steak on Sunday\, March 17th. Indulge in a magnificent menu showcasing all the traditional favorites of St. Paddy’s Day. \nSecure your spot by making reservations through the Front Desk or conveniently on OpenTable. Join us for a night of fun and festivity that honors the rich cultural heritage of Ireland. \nDon’t miss out on this vibrant event\, where every bite and moment promises to be a delightful homage to the essence of St. Patrick’s Day! \nSt. Patrick’s Day at Double Barrel Steak\n\nBrunch: 8:00a.m. – 2:00p.m.\nA La Carte Dinner: 2:00p.m. – 9:00p.m.
URL:https://preserveaspot.com/event/st-patricks-day-at-double-barrel-steak/
LOCATION:Double Barrel Steak\, 1 Preserve Boulevard\, Richmond\, RI\, 02898\, United States
CATEGORIES:Double Barrel Steak
ATTACH;FMTTYPE=image/webp:https://preserveaspot.com/wp-content/uploads/2024/02/St.-Patricks-Day-at-Double-Barrel-Steak.webp
ORGANIZER;CN="Double Barrel Steak":MAILTO:hello@dbsteak.com
GEO:41.5017742;-71.6828161
X-APPLE-STRUCTURED-LOCATION;VALUE=URI;X-ADDRESS=Double Barrel Steak 1 Preserve Boulevard Richmond RI 02898 United States;X-APPLE-RADIUS=500;X-TITLE=1 Preserve Boulevard:geo:-71.6828161,41.5017742
END:VEVENT
BEGIN:VEVENT
DTSTART;TZID=America/New_York:20240321T170000
DTEND;TZID=America/New_York:20240321T200000
DTSTAMP:20260421T185147
CREATED:20231204T181212Z
LAST-MODIFIED:20241017T154853Z
UID:10001201-1711040400-1711051200@preserveaspot.com
SUMMARY:Double Barrel & Bentley Dinner Experience
DESCRIPTION:Indulge in the epitome of luxury with our exclusive ‘Double Barrel & Bentley’ date night experience at The Preserve Resort & Spa. From your doorstep to the dining room\, we’ll curate a magical evening celebrating fine dining and sophistication. \nAn experience perfect for engagements\, celebrations\, surprises and more; you can relax and unwind as The Preserve Resort & Spa picks you up in one of our exclusive Bentleys and transports you to the renowned Double Barrel Steak for a curated dinner experience. After dinner and dessert\, we’ll complete the evening as we drop you off safely at home. \nMenu Includes: \n\nAmuse Bouche and Pre Dinner-Cocktail\nClothesline Bacon for Two\nSalad\nTomahawk Steak for Two\nTrio of Sides\nCake Pop Tree\nBottle of Wine\, valued at $100\n\nFine Print: \nExperience available on Thursday evenings with pick up times of 5:00p.m. or 6:30p.m. Pick up location must be within 25 miles of the Preserve Resort & Spa. \nPrice:\n$695 (Party of 2)  Price Includes Up to 2 People\n$1\,389 (Party of 4) Price Includes Up to 4 People
URL:https://preserveaspot.com/event/double-barrel-bentley-dinner-experience/2024-03-21/
LOCATION:Double Barrel Steak\, 1 Preserve Boulevard\, Richmond\, RI\, 02898\, United States
CATEGORIES:Double Barrel Steak
ATTACH;FMTTYPE=image/webp:https://preserveaspot.com/wp-content/uploads/2023/12/Double-Barrel-Bentley-Dinner-Experience.webp
ORGANIZER;CN="Guest Relations":MAILTO:grm@thepreserveri.com
GEO:41.5017742;-71.6828161
X-APPLE-STRUCTURED-LOCATION;VALUE=URI;X-ADDRESS=Double Barrel Steak 1 Preserve Boulevard Richmond RI 02898 United States;X-APPLE-RADIUS=500;X-TITLE=1 Preserve Boulevard:geo:-71.6828161,41.5017742
END:VEVENT
BEGIN:VEVENT
DTSTART;TZID=America/New_York:20240328T170000
DTEND;TZID=America/New_York:20240328T200000
DTSTAMP:20260421T185147
CREATED:20231204T181212Z
LAST-MODIFIED:20241017T154853Z
UID:10001203-1711645200-1711656000@preserveaspot.com
SUMMARY:Double Barrel & Bentley Dinner Experience
DESCRIPTION:Indulge in the epitome of luxury with our exclusive ‘Double Barrel & Bentley’ date night experience at The Preserve Resort & Spa. From your doorstep to the dining room\, we’ll curate a magical evening celebrating fine dining and sophistication. \nAn experience perfect for engagements\, celebrations\, surprises and more; you can relax and unwind as The Preserve Resort & Spa picks you up in one of our exclusive Bentleys and transports you to the renowned Double Barrel Steak for a curated dinner experience. After dinner and dessert\, we’ll complete the evening as we drop you off safely at home. \nMenu Includes: \n\nAmuse Bouche and Pre Dinner-Cocktail\nClothesline Bacon for Two\nSalad\nTomahawk Steak for Two\nTrio of Sides\nCake Pop Tree\nBottle of Wine\, valued at $100\n\nFine Print: \nExperience available on Thursday evenings with pick up times of 5:00p.m. or 6:30p.m. Pick up location must be within 25 miles of the Preserve Resort & Spa. \nPrice:\n$695 (Party of 2)  Price Includes Up to 2 People\n$1\,389 (Party of 4) Price Includes Up to 4 People
URL:https://preserveaspot.com/event/double-barrel-bentley-dinner-experience/2024-03-28/
LOCATION:Double Barrel Steak\, 1 Preserve Boulevard\, Richmond\, RI\, 02898\, United States
CATEGORIES:Double Barrel Steak
ATTACH;FMTTYPE=image/webp:https://preserveaspot.com/wp-content/uploads/2023/12/Double-Barrel-Bentley-Dinner-Experience.webp
ORGANIZER;CN="Guest Relations":MAILTO:grm@thepreserveri.com
GEO:41.5017742;-71.6828161
X-APPLE-STRUCTURED-LOCATION;VALUE=URI;X-ADDRESS=Double Barrel Steak 1 Preserve Boulevard Richmond RI 02898 United States;X-APPLE-RADIUS=500;X-TITLE=1 Preserve Boulevard:geo:-71.6828161,41.5017742
END:VEVENT
END:VCALENDAR