BEGIN:VCALENDAR
VERSION:2.0
PRODID:-//The Preserve Sporting Club &amp; Resort - ECPv6.15.20//NONSGML v1.0//EN
CALSCALE:GREGORIAN
METHOD:PUBLISH
X-ORIGINAL-URL:https://preserveaspot.com
X-WR-CALDESC:Events for The Preserve Sporting Club &amp; Resort
REFRESH-INTERVAL;VALUE=DURATION:PT1H
X-Robots-Tag:noindex
X-PUBLISHED-TTL:PT1H
BEGIN:VTIMEZONE
TZID:America/New_York
BEGIN:DAYLIGHT
TZOFFSETFROM:-0500
TZOFFSETTO:-0400
TZNAME:EDT
DTSTART:20230312T070000
END:DAYLIGHT
BEGIN:STANDARD
TZOFFSETFROM:-0400
TZOFFSETTO:-0500
TZNAME:EST
DTSTART:20231105T060000
END:STANDARD
BEGIN:DAYLIGHT
TZOFFSETFROM:-0500
TZOFFSETTO:-0400
TZNAME:EDT
DTSTART:20240310T070000
END:DAYLIGHT
BEGIN:STANDARD
TZOFFSETFROM:-0400
TZOFFSETTO:-0500
TZNAME:EST
DTSTART:20241103T060000
END:STANDARD
BEGIN:DAYLIGHT
TZOFFSETFROM:-0500
TZOFFSETTO:-0400
TZNAME:EDT
DTSTART:20250309T070000
END:DAYLIGHT
BEGIN:STANDARD
TZOFFSETFROM:-0400
TZOFFSETTO:-0500
TZNAME:EST
DTSTART:20251102T060000
END:STANDARD
END:VTIMEZONE
BEGIN:VEVENT
DTSTART;TZID=America/New_York:20240201T170000
DTEND;TZID=America/New_York:20240201T200000
DTSTAMP:20260421T202448
CREATED:20231204T181212Z
LAST-MODIFIED:20241017T154853Z
UID:10001187-1706806800-1706817600@preserveaspot.com
SUMMARY:Double Barrel & Bentley Dinner Experience
DESCRIPTION:Indulge in the epitome of luxury with our exclusive ‘Double Barrel & Bentley’ date night experience at The Preserve Resort & Spa. From your doorstep to the dining room\, we’ll curate a magical evening celebrating fine dining and sophistication. \nAn experience perfect for engagements\, celebrations\, surprises and more; you can relax and unwind as The Preserve Resort & Spa picks you up in one of our exclusive Bentleys and transports you to the renowned Double Barrel Steak for a curated dinner experience. After dinner and dessert\, we’ll complete the evening as we drop you off safely at home. \nMenu Includes: \n\nAmuse Bouche and Pre Dinner-Cocktail\nClothesline Bacon for Two\nSalad\nTomahawk Steak for Two\nTrio of Sides\nCake Pop Tree\nBottle of Wine\, valued at $100\n\nFine Print: \nExperience available on Thursday evenings with pick up times of 5:00p.m. or 6:30p.m. Pick up location must be within 25 miles of the Preserve Resort & Spa. \nPrice:\n$695 (Party of 2)  Price Includes Up to 2 People\n$1\,389 (Party of 4) Price Includes Up to 4 People
URL:https://preserveaspot.com/event/double-barrel-bentley-dinner-experience/2024-02-01/
LOCATION:Double Barrel Steak\, 1 Preserve Boulevard\, Richmond\, RI\, 02898\, United States
CATEGORIES:Double Barrel Steak
ATTACH;FMTTYPE=image/webp:https://preserveaspot.com/wp-content/uploads/2023/12/Double-Barrel-Bentley-Dinner-Experience.webp
ORGANIZER;CN="Guest Relations":MAILTO:grm@thepreserveri.com
GEO:41.5017742;-71.6828161
X-APPLE-STRUCTURED-LOCATION;VALUE=URI;X-ADDRESS=Double Barrel Steak 1 Preserve Boulevard Richmond RI 02898 United States;X-APPLE-RADIUS=500;X-TITLE=1 Preserve Boulevard:geo:-71.6828161,41.5017742
END:VEVENT
BEGIN:VEVENT
DTSTART;TZID=America/New_York:20240208T170000
DTEND;TZID=America/New_York:20240208T200000
DTSTAMP:20260421T202448
CREATED:20231204T181212Z
LAST-MODIFIED:20241017T154853Z
UID:10001189-1707411600-1707422400@preserveaspot.com
SUMMARY:Double Barrel & Bentley Dinner Experience
DESCRIPTION:Indulge in the epitome of luxury with our exclusive ‘Double Barrel & Bentley’ date night experience at The Preserve Resort & Spa. From your doorstep to the dining room\, we’ll curate a magical evening celebrating fine dining and sophistication. \nAn experience perfect for engagements\, celebrations\, surprises and more; you can relax and unwind as The Preserve Resort & Spa picks you up in one of our exclusive Bentleys and transports you to the renowned Double Barrel Steak for a curated dinner experience. After dinner and dessert\, we’ll complete the evening as we drop you off safely at home. \nMenu Includes: \n\nAmuse Bouche and Pre Dinner-Cocktail\nClothesline Bacon for Two\nSalad\nTomahawk Steak for Two\nTrio of Sides\nCake Pop Tree\nBottle of Wine\, valued at $100\n\nFine Print: \nExperience available on Thursday evenings with pick up times of 5:00p.m. or 6:30p.m. Pick up location must be within 25 miles of the Preserve Resort & Spa. \nPrice:\n$695 (Party of 2)  Price Includes Up to 2 People\n$1\,389 (Party of 4) Price Includes Up to 4 People
URL:https://preserveaspot.com/event/double-barrel-bentley-dinner-experience/2024-02-08/
LOCATION:Double Barrel Steak\, 1 Preserve Boulevard\, Richmond\, RI\, 02898\, United States
CATEGORIES:Double Barrel Steak
ATTACH;FMTTYPE=image/webp:https://preserveaspot.com/wp-content/uploads/2023/12/Double-Barrel-Bentley-Dinner-Experience.webp
ORGANIZER;CN="Guest Relations":MAILTO:grm@thepreserveri.com
GEO:41.5017742;-71.6828161
X-APPLE-STRUCTURED-LOCATION;VALUE=URI;X-ADDRESS=Double Barrel Steak 1 Preserve Boulevard Richmond RI 02898 United States;X-APPLE-RADIUS=500;X-TITLE=1 Preserve Boulevard:geo:-71.6828161,41.5017742
END:VEVENT
BEGIN:VEVENT
DTSTART;TZID=America/New_York:20240214T080000
DTEND;TZID=America/New_York:20240214T210000
DTSTAMP:20260421T202448
CREATED:20230201T190129Z
LAST-MODIFIED:20240119T162603Z
UID:10000319-1707897600-1707944400@preserveaspot.com
SUMMARY:Valentine’s Day at Double Barrel Steak
DESCRIPTION:Indulge in a romantic Valentine’s Day experience at Double Barrel Steak on Wednesday\, February 14th. Enjoy beverage specials\, receive a beautiful rose\, and delight in your choice of a specially crafted Valentine’s Day menu. Reserve your spot (via OpenTable) to celebrate this special occasion in style and romance. Create unforgettable memories with your special someone at The Preserve this Valentine’s Day! \nCall  +1 (833) DBSTEAK\n+1 (833) 327-8325 \nto make your reservation today!
URL:https://preserveaspot.com/event/valentines-day-at-double-barrel-steak/
LOCATION:Double Barrel Steak\, 1 Preserve Boulevard\, Richmond\, RI\, 02898\, United States
CATEGORIES:Double Barrel Steak
ATTACH;FMTTYPE=image/webp:https://preserveaspot.com/wp-content/uploads/2023/02/Valentines-Day-at-Double-Barrel-Steak.webp
ORGANIZER;CN="Double Barrel Steak":MAILTO:hello@dbsteak.com
GEO:41.5017742;-71.6828161
X-APPLE-STRUCTURED-LOCATION;VALUE=URI;X-ADDRESS=Double Barrel Steak 1 Preserve Boulevard Richmond RI 02898 United States;X-APPLE-RADIUS=500;X-TITLE=1 Preserve Boulevard:geo:-71.6828161,41.5017742
END:VEVENT
BEGIN:VEVENT
DTSTART;TZID=America/New_York:20240215T170000
DTEND;TZID=America/New_York:20240215T200000
DTSTAMP:20260421T202448
CREATED:20231204T181212Z
LAST-MODIFIED:20241017T154853Z
UID:10001191-1708016400-1708027200@preserveaspot.com
SUMMARY:Double Barrel & Bentley Dinner Experience
DESCRIPTION:Indulge in the epitome of luxury with our exclusive ‘Double Barrel & Bentley’ date night experience at The Preserve Resort & Spa. From your doorstep to the dining room\, we’ll curate a magical evening celebrating fine dining and sophistication. \nAn experience perfect for engagements\, celebrations\, surprises and more; you can relax and unwind as The Preserve Resort & Spa picks you up in one of our exclusive Bentleys and transports you to the renowned Double Barrel Steak for a curated dinner experience. After dinner and dessert\, we’ll complete the evening as we drop you off safely at home. \nMenu Includes: \n\nAmuse Bouche and Pre Dinner-Cocktail\nClothesline Bacon for Two\nSalad\nTomahawk Steak for Two\nTrio of Sides\nCake Pop Tree\nBottle of Wine\, valued at $100\n\nFine Print: \nExperience available on Thursday evenings with pick up times of 5:00p.m. or 6:30p.m. Pick up location must be within 25 miles of the Preserve Resort & Spa. \nPrice:\n$695 (Party of 2)  Price Includes Up to 2 People\n$1\,389 (Party of 4) Price Includes Up to 4 People
URL:https://preserveaspot.com/event/double-barrel-bentley-dinner-experience/2024-02-15/
LOCATION:Double Barrel Steak\, 1 Preserve Boulevard\, Richmond\, RI\, 02898\, United States
CATEGORIES:Double Barrel Steak
ATTACH;FMTTYPE=image/webp:https://preserveaspot.com/wp-content/uploads/2023/12/Double-Barrel-Bentley-Dinner-Experience.webp
ORGANIZER;CN="Guest Relations":MAILTO:grm@thepreserveri.com
GEO:41.5017742;-71.6828161
X-APPLE-STRUCTURED-LOCATION;VALUE=URI;X-ADDRESS=Double Barrel Steak 1 Preserve Boulevard Richmond RI 02898 United States;X-APPLE-RADIUS=500;X-TITLE=1 Preserve Boulevard:geo:-71.6828161,41.5017742
END:VEVENT
BEGIN:VEVENT
DTSTART;TZID=America/New_York:20240222T170000
DTEND;TZID=America/New_York:20240222T200000
DTSTAMP:20260421T202448
CREATED:20231204T181212Z
LAST-MODIFIED:20241017T154853Z
UID:10001193-1708621200-1708632000@preserveaspot.com
SUMMARY:Double Barrel & Bentley Dinner Experience
DESCRIPTION:Indulge in the epitome of luxury with our exclusive ‘Double Barrel & Bentley’ date night experience at The Preserve Resort & Spa. From your doorstep to the dining room\, we’ll curate a magical evening celebrating fine dining and sophistication. \nAn experience perfect for engagements\, celebrations\, surprises and more; you can relax and unwind as The Preserve Resort & Spa picks you up in one of our exclusive Bentleys and transports you to the renowned Double Barrel Steak for a curated dinner experience. After dinner and dessert\, we’ll complete the evening as we drop you off safely at home. \nMenu Includes: \n\nAmuse Bouche and Pre Dinner-Cocktail\nClothesline Bacon for Two\nSalad\nTomahawk Steak for Two\nTrio of Sides\nCake Pop Tree\nBottle of Wine\, valued at $100\n\nFine Print: \nExperience available on Thursday evenings with pick up times of 5:00p.m. or 6:30p.m. Pick up location must be within 25 miles of the Preserve Resort & Spa. \nPrice:\n$695 (Party of 2)  Price Includes Up to 2 People\n$1\,389 (Party of 4) Price Includes Up to 4 People
URL:https://preserveaspot.com/event/double-barrel-bentley-dinner-experience/2024-02-22/
LOCATION:Double Barrel Steak\, 1 Preserve Boulevard\, Richmond\, RI\, 02898\, United States
CATEGORIES:Double Barrel Steak
ATTACH;FMTTYPE=image/webp:https://preserveaspot.com/wp-content/uploads/2023/12/Double-Barrel-Bentley-Dinner-Experience.webp
ORGANIZER;CN="Guest Relations":MAILTO:grm@thepreserveri.com
GEO:41.5017742;-71.6828161
X-APPLE-STRUCTURED-LOCATION;VALUE=URI;X-ADDRESS=Double Barrel Steak 1 Preserve Boulevard Richmond RI 02898 United States;X-APPLE-RADIUS=500;X-TITLE=1 Preserve Boulevard:geo:-71.6828161,41.5017742
END:VEVENT
BEGIN:VEVENT
DTSTART;TZID=America/New_York:20240229T170000
DTEND;TZID=America/New_York:20240229T200000
DTSTAMP:20260421T202448
CREATED:20231204T181212Z
LAST-MODIFIED:20241017T154853Z
UID:10001195-1709226000-1709236800@preserveaspot.com
SUMMARY:Double Barrel & Bentley Dinner Experience
DESCRIPTION:Indulge in the epitome of luxury with our exclusive ‘Double Barrel & Bentley’ date night experience at The Preserve Resort & Spa. From your doorstep to the dining room\, we’ll curate a magical evening celebrating fine dining and sophistication. \nAn experience perfect for engagements\, celebrations\, surprises and more; you can relax and unwind as The Preserve Resort & Spa picks you up in one of our exclusive Bentleys and transports you to the renowned Double Barrel Steak for a curated dinner experience. After dinner and dessert\, we’ll complete the evening as we drop you off safely at home. \nMenu Includes: \n\nAmuse Bouche and Pre Dinner-Cocktail\nClothesline Bacon for Two\nSalad\nTomahawk Steak for Two\nTrio of Sides\nCake Pop Tree\nBottle of Wine\, valued at $100\n\nFine Print: \nExperience available on Thursday evenings with pick up times of 5:00p.m. or 6:30p.m. Pick up location must be within 25 miles of the Preserve Resort & Spa. \nPrice:\n$695 (Party of 2)  Price Includes Up to 2 People\n$1\,389 (Party of 4) Price Includes Up to 4 People
URL:https://preserveaspot.com/event/double-barrel-bentley-dinner-experience/2024-02-29/
LOCATION:Double Barrel Steak\, 1 Preserve Boulevard\, Richmond\, RI\, 02898\, United States
CATEGORIES:Double Barrel Steak
ATTACH;FMTTYPE=image/webp:https://preserveaspot.com/wp-content/uploads/2023/12/Double-Barrel-Bentley-Dinner-Experience.webp
ORGANIZER;CN="Guest Relations":MAILTO:grm@thepreserveri.com
GEO:41.5017742;-71.6828161
X-APPLE-STRUCTURED-LOCATION;VALUE=URI;X-ADDRESS=Double Barrel Steak 1 Preserve Boulevard Richmond RI 02898 United States;X-APPLE-RADIUS=500;X-TITLE=1 Preserve Boulevard:geo:-71.6828161,41.5017742
END:VEVENT
END:VCALENDAR