BEGIN:VCALENDAR
VERSION:2.0
PRODID:-//The Preserve Sporting Club &amp; Resort - ECPv6.15.20//NONSGML v1.0//EN
CALSCALE:GREGORIAN
METHOD:PUBLISH
X-WR-CALNAME:The Preserve Sporting Club &amp; Resort
X-ORIGINAL-URL:https://preserveaspot.com
X-WR-CALDESC:Events for The Preserve Sporting Club &amp; Resort
REFRESH-INTERVAL;VALUE=DURATION:PT1H
X-Robots-Tag:noindex
X-PUBLISHED-TTL:PT1H
BEGIN:VTIMEZONE
TZID:America/New_York
BEGIN:DAYLIGHT
TZOFFSETFROM:-0500
TZOFFSETTO:-0400
TZNAME:EDT
DTSTART:20220313T070000
END:DAYLIGHT
BEGIN:STANDARD
TZOFFSETFROM:-0400
TZOFFSETTO:-0500
TZNAME:EST
DTSTART:20221106T060000
END:STANDARD
BEGIN:DAYLIGHT
TZOFFSETFROM:-0500
TZOFFSETTO:-0400
TZNAME:EDT
DTSTART:20230312T070000
END:DAYLIGHT
BEGIN:STANDARD
TZOFFSETFROM:-0400
TZOFFSETTO:-0500
TZNAME:EST
DTSTART:20231105T060000
END:STANDARD
BEGIN:DAYLIGHT
TZOFFSETFROM:-0500
TZOFFSETTO:-0400
TZNAME:EDT
DTSTART:20240310T070000
END:DAYLIGHT
BEGIN:STANDARD
TZOFFSETFROM:-0400
TZOFFSETTO:-0500
TZNAME:EST
DTSTART:20241103T060000
END:STANDARD
END:VTIMEZONE
BEGIN:VEVENT
DTSTART;TZID=America/New_York:20230726T170000
DTEND;TZID=America/New_York:20230726T210000
DTSTAMP:20260422T082211
CREATED:20230620T170227Z
LAST-MODIFIED:20230721T024548Z
UID:10000819-1690390800-1690405200@preserveaspot.com
SUMMARY:David Burke’s Wild Game Dinner
DESCRIPTION:Join Chef David Burke for a sensational Wild Game Dinner at The Preserve on July 26th! Indulge in a decadent 4-course feast\, expertly paired with premium whiskey. After dinner\, savor Cohiba cigars and gather around the firepits for a cozy evening. These exclusive tickets are selling out fast\, so secure your spot today! \nFIRST COURSE \nCHARCUTERIE BOARD\nduck prosciutto\, pheasant pâté\, black berry jam\, assorted cheeses\, baguette \nSECOND COURSE \nBOAR RACK LOLLIPOP\ncitrus gremolata\, brown butter beet coulis \nWARM PHEASANT SPINACH SALAD\ncandied shiitake mush\, candied walnuts\, pearled onions\, heirloom tomato\, bacon vin \nTHIRD COURSE \nVENISON DOUBLE BARREL PETITE DUO FILET\nau poivre\, noodles\, baby bok choy\, beurre rouge poached shallot \nDUCK BREAST\nsweet potato vanilla puree\, and blood orange gastrique\, brandied Cherries. \nGRILLED LAKE TROUT\nherb smoked under glass\, sunchoke puree\, blistered cherry tomatoes \nDESSERT COURSE \nASSORTED DAVID BURKE PASTRIES AND DESSERTS
URL:https://preserveaspot.com/event/david-burkes-wild-game-dinner/
LOCATION:Double Barrel Steak\, 1 Preserve Boulevard\, Richmond\, RI\, 02898\, United States
CATEGORIES:Double Barrel Steak,Featured Events
ATTACH;FMTTYPE=image/webp:https://preserveaspot.com/wp-content/uploads/2023/02/Double-Barrel-Steak-by-Chef-David-Burke-Open.webp
ORGANIZER;CN="Lori Mihailides":MAILTO:lori@thepreserveri.com
GEO:41.5017742;-71.6828161
X-APPLE-STRUCTURED-LOCATION;VALUE=URI;X-ADDRESS=Double Barrel Steak 1 Preserve Boulevard Richmond RI 02898 United States;X-APPLE-RADIUS=500;X-TITLE=1 Preserve Boulevard:geo:-71.6828161,41.5017742
END:VEVENT
END:VCALENDAR